BEGIN:VCALENDAR
VERSION:2.0
PRODID:-//Maine Elks Association - ECPv6.15.20//NONSGML v1.0//EN
CALSCALE:GREGORIAN
METHOD:PUBLISH
X-WR-CALNAME:Maine Elks Association
X-ORIGINAL-URL:https://maineelks.org
X-WR-CALDESC:Events for Maine Elks Association
REFRESH-INTERVAL;VALUE=DURATION:PT1H
X-Robots-Tag:noindex
X-PUBLISHED-TTL:PT1H
BEGIN:VTIMEZONE
TZID:America/New_York
BEGIN:DAYLIGHT
TZOFFSETFROM:-0500
TZOFFSETTO:-0400
TZNAME:EDT
DTSTART:20240310T070000
END:DAYLIGHT
BEGIN:STANDARD
TZOFFSETFROM:-0400
TZOFFSETTO:-0500
TZNAME:EST
DTSTART:20241103T060000
END:STANDARD
BEGIN:DAYLIGHT
TZOFFSETFROM:-0500
TZOFFSETTO:-0400
TZNAME:EDT
DTSTART:20250309T070000
END:DAYLIGHT
BEGIN:STANDARD
TZOFFSETFROM:-0400
TZOFFSETTO:-0500
TZNAME:EST
DTSTART:20251102T060000
END:STANDARD
BEGIN:DAYLIGHT
TZOFFSETFROM:-0500
TZOFFSETTO:-0400
TZNAME:EDT
DTSTART:20260308T070000
END:DAYLIGHT
BEGIN:STANDARD
TZOFFSETFROM:-0400
TZOFFSETTO:-0500
TZNAME:EST
DTSTART:20261101T060000
END:STANDARD
BEGIN:DAYLIGHT
TZOFFSETFROM:-0500
TZOFFSETTO:-0400
TZNAME:EDT
DTSTART:20270314T070000
END:DAYLIGHT
BEGIN:STANDARD
TZOFFSETFROM:-0400
TZOFFSETTO:-0500
TZNAME:EST
DTSTART:20271107T060000
END:STANDARD
END:VTIMEZONE
BEGIN:VEVENT
DTSTART;TZID=America/New_York:20260111T100000
DTEND;TZID=America/New_York:20260111T123000
DTSTAMP:20260425T141656
CREATED:20250303T163727Z
LAST-MODIFIED:20250303T163727Z
UID:10000265-1768125600-1768134600@maineelks.org
SUMMARY:MEA State Meeting- Rockland Elks Lodge #1008
DESCRIPTION:
URL:https://maineelks.org/event/mea-state-meeting-rockland-elks-lodge-1008/
LOCATION:Rockland Elks Lodge\, 210 Rankin St\, Rocklande\, ME\, 04841\, United States
CATEGORIES:State Meeting
END:VEVENT
BEGIN:VEVENT
DTSTART;TZID=America/New_York:20260111T090000
DTEND;TZID=America/New_York:20260111T100000
DTSTAMP:20260425T141656
CREATED:20250303T155615Z
LAST-MODIFIED:20250303T155906Z
UID:10000261-1768122000-1768125600@maineelks.org
SUMMARY:State Trustee Meeting- Rockland Elks Lodge #1008
DESCRIPTION:
URL:https://maineelks.org/event/state-trustee-meeting-skowhegan-madison-lodge-2531/
LOCATION:Rockland Elks Lodge\, 210 Rankin St\, Rocklande\, ME\, 04841\, United States
CATEGORIES:State Trustee Meeting
END:VEVENT
BEGIN:VEVENT
DTSTART;TZID=America/New_York:20251212T170000
DTEND;TZID=America/New_York:20251214T130000
DTSTAMP:20260425T141656
CREATED:20251210T235347Z
LAST-MODIFIED:20251210T235428Z
UID:10000290-1765558800-1765717200@maineelks.org
SUMMARY:State President Visit- Rockland Lodge #1008
DESCRIPTION:State President Corey DeWitt and First Lady Joleen will be making an official visit to the Rockland Lodge. Many events are planned for the whole weekend. Please contact the Lodge for more details.
URL:https://maineelks.org/event/state-president-visit-rockland-lodge-1008/
LOCATION:Rockland Elks Lodge\, 210 Rankin St\, Rocklande\, ME\, 04841\, United States
ATTACH;FMTTYPE=application/pdf:https://maineelks.org/wp-content/uploads/2025/12/January-25-Elk-State-meeting-Rockland-Elks-1008.pdf
END:VEVENT
END:VCALENDAR