BEGIN:VCALENDAR
VERSION:2.0
PRODID:-//Maine Elks Association - ECPv6.15.20//NONSGML v1.0//EN
CALSCALE:GREGORIAN
METHOD:PUBLISH
X-ORIGINAL-URL:https://maineelks.org
X-WR-CALDESC:Events for Maine Elks Association
REFRESH-INTERVAL;VALUE=DURATION:PT1H
X-Robots-Tag:noindex
X-PUBLISHED-TTL:PT1H
BEGIN:VTIMEZONE
TZID:America/New_York
BEGIN:DAYLIGHT
TZOFFSETFROM:-0500
TZOFFSETTO:-0400
TZNAME:EDT
DTSTART:20240310T070000
END:DAYLIGHT
BEGIN:STANDARD
TZOFFSETFROM:-0400
TZOFFSETTO:-0500
TZNAME:EST
DTSTART:20241103T060000
END:STANDARD
BEGIN:DAYLIGHT
TZOFFSETFROM:-0500
TZOFFSETTO:-0400
TZNAME:EDT
DTSTART:20250309T070000
END:DAYLIGHT
BEGIN:STANDARD
TZOFFSETFROM:-0400
TZOFFSETTO:-0500
TZNAME:EST
DTSTART:20251102T060000
END:STANDARD
BEGIN:DAYLIGHT
TZOFFSETFROM:-0500
TZOFFSETTO:-0400
TZNAME:EDT
DTSTART:20260308T070000
END:DAYLIGHT
BEGIN:STANDARD
TZOFFSETFROM:-0400
TZOFFSETTO:-0500
TZNAME:EST
DTSTART:20261101T060000
END:STANDARD
END:VTIMEZONE
BEGIN:VEVENT
DTSTART;TZID=America/New_York:20251018T173000
DTEND;TZID=America/New_York:20251018T223000
DTSTAMP:20260423T032833
CREATED:20250914T194000Z
LAST-MODIFIED:20250914T194000Z
UID:10000284-1760808600-1760826600@maineelks.org
SUMMARY:Mortgage Burning Ceremony
DESCRIPTION:The Biddeford- Saco Lodge will be celebrating the payoff of their mortgage. The Mortgage Burning Ceremony will take place at the Lodge starting at 5:30pm. After the ceremony will be a social hour and dinner. State President Corey DeWitt and First Lady Joleen will also be in attendance.
URL:https://maineelks.org/event/mortgage-burning-ceremony/
LOCATION:Biddeford-Saco Elks Lodge\, 68 Ocean Park Rd\, Saco\, ME\, 04072-1597\, United States
ATTACH;FMTTYPE=image/jpeg:https://maineelks.org/wp-content/uploads/2025/09/Mortgage-BurningState-President-Visit-Portrait.jpeg
END:VEVENT
BEGIN:VEVENT
DTSTART;TZID=America/New_York:20251018T170000
DTEND;TZID=America/New_York:20251018T223000
DTSTAMP:20260423T032833
CREATED:20250914T193344Z
LAST-MODIFIED:20250914T193344Z
UID:10000283-1760806800-1760826600@maineelks.org
SUMMARY:State President Visit- Bidd- Saco Lodge #1597
DESCRIPTION:State President Corey DeWitt and First Lady Joleen will be making an official visit to the Biddeford- Saco Lodge. During their visit the Lodge will be performing a Mortgage Burning Ceremony with a dinner planned after.
URL:https://maineelks.org/event/state-president-visit-bidd-saco-lodge-1597/
LOCATION:Biddeford-Saco Elks Lodge\, 68 Ocean Park Rd\, Saco\, ME\, 04072-1597\, United States
ATTACH;FMTTYPE=image/jpeg:https://maineelks.org/wp-content/uploads/2025/09/Mortgage-BurningState-President-Visit-Portrait.jpeg
END:VEVENT
END:VCALENDAR