BEGIN:VCALENDAR
VERSION:2.0
PRODID:-//Maine Elks Association - ECPv6.15.20//NONSGML v1.0//EN
CALSCALE:GREGORIAN
METHOD:PUBLISH
X-WR-CALNAME:Maine Elks Association
X-ORIGINAL-URL:https://maineelks.org
X-WR-CALDESC:Events for Maine Elks Association
REFRESH-INTERVAL;VALUE=DURATION:PT1H
X-Robots-Tag:noindex
X-PUBLISHED-TTL:PT1H
BEGIN:VTIMEZONE
TZID:America/New_York
BEGIN:DAYLIGHT
TZOFFSETFROM:-0500
TZOFFSETTO:-0400
TZNAME:EDT
DTSTART:20250309T070000
END:DAYLIGHT
BEGIN:STANDARD
TZOFFSETFROM:-0400
TZOFFSETTO:-0500
TZNAME:EST
DTSTART:20251102T060000
END:STANDARD
BEGIN:DAYLIGHT
TZOFFSETFROM:-0500
TZOFFSETTO:-0400
TZNAME:EDT
DTSTART:20260308T070000
END:DAYLIGHT
BEGIN:STANDARD
TZOFFSETFROM:-0400
TZOFFSETTO:-0500
TZNAME:EST
DTSTART:20261101T060000
END:STANDARD
BEGIN:DAYLIGHT
TZOFFSETFROM:-0500
TZOFFSETTO:-0400
TZNAME:EDT
DTSTART:20270314T070000
END:DAYLIGHT
BEGIN:STANDARD
TZOFFSETFROM:-0400
TZOFFSETTO:-0500
TZNAME:EST
DTSTART:20271107T060000
END:STANDARD
END:VTIMEZONE
BEGIN:VEVENT
DTSTART;VALUE=DATE:20260101
DTEND;VALUE=DATE:20260102
DTSTAMP:20260424T181310
CREATED:20251211T001323Z
LAST-MODIFIED:20251211T001323Z
UID:10000293-1767225600-1767311999@maineelks.org
SUMMARY:HAPPY NEW YEAR
DESCRIPTION:HAPPY NEW YEAR
URL:https://maineelks.org/event/happy-new-year/
LOCATION:ME
END:VEVENT
BEGIN:VEVENT
DTSTART;TZID=America/New_York:20260111T090000
DTEND;TZID=America/New_York:20260111T100000
DTSTAMP:20260424T181310
CREATED:20250303T155615Z
LAST-MODIFIED:20250303T155906Z
UID:10000261-1768122000-1768125600@maineelks.org
SUMMARY:State Trustee Meeting- Rockland Elks Lodge #1008
DESCRIPTION:
URL:https://maineelks.org/event/state-trustee-meeting-skowhegan-madison-lodge-2531/
LOCATION:Rockland Elks Lodge\, 210 Rankin St\, Rocklande\, ME\, 04841\, United States
CATEGORIES:State Trustee Meeting
END:VEVENT
BEGIN:VEVENT
DTSTART;TZID=America/New_York:20260111T100000
DTEND;TZID=America/New_York:20260111T123000
DTSTAMP:20260424T181310
CREATED:20250303T163727Z
LAST-MODIFIED:20250303T163727Z
UID:10000265-1768125600-1768134600@maineelks.org
SUMMARY:MEA State Meeting- Rockland Elks Lodge #1008
DESCRIPTION:
URL:https://maineelks.org/event/mea-state-meeting-rockland-elks-lodge-1008/
LOCATION:Rockland Elks Lodge\, 210 Rankin St\, Rocklande\, ME\, 04841\, United States
CATEGORIES:State Meeting
END:VEVENT
BEGIN:VEVENT
DTSTART;TZID=America/New_York:20260117T170000
DTEND;TZID=America/New_York:20260117T220000
DTSTAMP:20260424T181310
CREATED:20251210T235824Z
LAST-MODIFIED:20251210T235824Z
UID:10000291-1768669200-1768687200@maineelks.org
SUMMARY:State President Visit- Brunswick Lodge #2043
DESCRIPTION:State President Corey DeWitt and First Lady Joleen will be making official visit to the Brunswick Lodge. Contact the Lodge for more details.
URL:https://maineelks.org/event/state-president-visit-brunswick-lodge-2043/
LOCATION:Brunswick Elks Lodge\, 179 Park Row\, Brunswick\, ME\, 04011-2006\, United States
END:VEVENT
BEGIN:VEVENT
DTSTART;TZID=America/New_York:20260125T093000
DTEND;TZID=America/New_York:20260125T140000
DTSTAMP:20260424T181310
CREATED:20251211T000847Z
LAST-MODIFIED:20251211T000847Z
UID:10000292-1769333400-1769349600@maineelks.org
SUMMARY:State Hoop Shoot
DESCRIPTION:The state Hoop Shoot will take place at the Bath Middle School starting at 10:00am.
URL:https://maineelks.org/event/state-hoop-shoot/
LOCATION:Bath Middle School\, 6 Old Brunswick Rd\, Bath\, ME\, 04530\, United States
ATTACH;FMTTYPE=image/jpeg:https://maineelks.org/wp-content/uploads/2021/12/Elks-Hoop-Shoot-1.jpg
ORGANIZER;CN="george Jones":MAILTO:gjonesmaine@gmail.com
END:VEVENT
BEGIN:VEVENT
DTSTART;TZID=America/New_York:20260131T123000
DTEND;TZID=America/New_York:20260131T170000
DTSTAMP:20260424T181310
CREATED:20260108T001720Z
LAST-MODIFIED:20260108T001720Z
UID:10000301-1769862600-1769878800@maineelks.org
SUMMARY:Cribbage Tournament
DESCRIPTION:The Farmington Lodge will be hosting a charity fundraiser cribbage tournament. The tournament is open to ALL State of Maine Lodges. The Lodge with the highest score will receive an ENF donation for their Lodge. $15.00 per player\, Lunch/ Bar/ 50/50. Prizes for 1st\, 2nd\, and 3 place. Come support this great fundraiser and receive a donation to your Lodge. Good Luck
URL:https://maineelks.org/event/cribbage-tournament/
LOCATION:Farmington Elks Lodge\, 120 School St\, Farmington\, ME\, 04938-1535\, United States
ATTACH;FMTTYPE=image/jpeg:https://maineelks.org/wp-content/uploads/2026/01/cribbage-tourn-enf-2-1.jpg
ORGANIZER;CN="Jo Spielvogel":MAILTO:jo.spielvogel@gmail.com
END:VEVENT
END:VCALENDAR