BEGIN:VCALENDAR
VERSION:2.0
PRODID:-//Maine Elks Association - ECPv6.15.20//NONSGML v1.0//EN
CALSCALE:GREGORIAN
METHOD:PUBLISH
X-ORIGINAL-URL:https://maineelks.org
X-WR-CALDESC:Events for Maine Elks Association
REFRESH-INTERVAL;VALUE=DURATION:PT1H
X-Robots-Tag:noindex
X-PUBLISHED-TTL:PT1H
BEGIN:VTIMEZONE
TZID:America/New_York
BEGIN:DAYLIGHT
TZOFFSETFROM:-0500
TZOFFSETTO:-0400
TZNAME:EDT
DTSTART:20230312T070000
END:DAYLIGHT
BEGIN:STANDARD
TZOFFSETFROM:-0400
TZOFFSETTO:-0500
TZNAME:EST
DTSTART:20231105T060000
END:STANDARD
BEGIN:DAYLIGHT
TZOFFSETFROM:-0500
TZOFFSETTO:-0400
TZNAME:EDT
DTSTART:20240310T070000
END:DAYLIGHT
BEGIN:STANDARD
TZOFFSETFROM:-0400
TZOFFSETTO:-0500
TZNAME:EST
DTSTART:20241103T060000
END:STANDARD
BEGIN:DAYLIGHT
TZOFFSETFROM:-0500
TZOFFSETTO:-0400
TZNAME:EDT
DTSTART:20250309T070000
END:DAYLIGHT
BEGIN:STANDARD
TZOFFSETFROM:-0400
TZOFFSETTO:-0500
TZNAME:EST
DTSTART:20251102T060000
END:STANDARD
END:VTIMEZONE
BEGIN:VEVENT
DTSTART;VALUE=DATE:20241201
DTEND;VALUE=DATE:20241202
DTSTAMP:20260424T072326
CREATED:20230330T143747Z
LAST-MODIFIED:20230330T143747Z
UID:10000033-1733011200-1733097599@maineelks.org
SUMMARY:Elks Memorial Sunday
DESCRIPTION:
URL:https://maineelks.org/event/elks-memorial-sunday/2024-12-01/
LOCATION:ME
CATEGORIES:Miscellaneous
ATTACH;FMTTYPE=image/jpeg:https://maineelks.org/wp-content/uploads/2021/12/Elk-Necrology.jpg
END:VEVENT
BEGIN:VEVENT
DTSTART;VALUE=DATE:20241224
DTEND;VALUE=DATE:20241225
DTSTAMP:20260424T072326
CREATED:20230330T143853Z
LAST-MODIFIED:20230330T143853Z
UID:10000038-1734998400-1735084799@maineelks.org
SUMMARY:Christmas Eve
DESCRIPTION:
URL:https://maineelks.org/event/christmas-eve/2024-12-24/
LOCATION:ME
CATEGORIES:Holiday
END:VEVENT
BEGIN:VEVENT
DTSTART;VALUE=DATE:20241225
DTEND;VALUE=DATE:20241226
DTSTAMP:20260424T072326
CREATED:20230330T144004Z
LAST-MODIFIED:20230330T152232Z
UID:10000044-1735084800-1735171199@maineelks.org
SUMMARY:Christmas Day
DESCRIPTION:
URL:https://maineelks.org/event/christmas-day/2024-12-25/
LOCATION:ME
CATEGORIES:Holiday
END:VEVENT
BEGIN:VEVENT
DTSTART;VALUE=DATE:20241231
DTEND;VALUE=DATE:20250101
DTSTAMP:20260424T072326
CREATED:20230330T144227Z
LAST-MODIFIED:20230330T144227Z
UID:10000054-1735603200-1735689599@maineelks.org
SUMMARY:New Year’s Eve
DESCRIPTION:
URL:https://maineelks.org/event/new-years-eve/2024-12-31/
LOCATION:ME
CATEGORIES:Holiday
END:VEVENT
END:VCALENDAR